BEGIN:VCALENDAR
VERSION:2.0
PRODID:-//Sri Rama Dasa Mission Houston - ECPv6.15.15//NONSGML v1.0//EN
CALSCALE:GREGORIAN
METHOD:PUBLISH
X-WR-CALNAME:Sri Rama Dasa Mission Houston
X-ORIGINAL-URL:https://srdmh.org
X-WR-CALDESC:Events for Sri Rama Dasa Mission Houston
REFRESH-INTERVAL;VALUE=DURATION:PT1H
X-Robots-Tag:noindex
X-PUBLISHED-TTL:PT1H
BEGIN:VTIMEZONE
TZID:UTC
BEGIN:STANDARD
TZOFFSETFROM:+0000
TZOFFSETTO:+0000
TZNAME:UTC
DTSTART:20220101T000000
END:STANDARD
END:VTIMEZONE
BEGIN:VEVENT
DTSTART;VALUE=DATE:20230709
DTEND;VALUE=DATE:20230710
DTSTAMP:20260421T060105
CREATED:20230506T090344Z
LAST-MODIFIED:20230506T090344Z
UID:3669-1688860800-1688947199@srdmh.org
SUMMARY:Homam - Part 19
DESCRIPTION:July 9 th is Ravivara\, 07\, Shravana\, Krishna Paksha\, Saptami\, 2080 Nala\, Vikrama Samvata\, Tithi:  Saptami upto 07:59 PM\, Uttara Bhadrapada \, Yoga: Shobhana \, Karana: Vishti \nHomam will start from 9:30 AM CST. Schedule will be Guruvandana followed by Ganapathy Homam\, Hanuman Homam\, Srirama Homam\, Sudarshana Homam\, Vishnu Sahasranama Homam and Lalitha Sahasranama Homam\, expected to end by noon. \n  \nBroadcast link is\, \nhttps://zoom.us/j/96105607749?pwd=Y1NFOFNlSSt0YXR6S3hYajFtd3BlQT09\nIf using a mobile device which needs id and password\, they are 961 0560 7749 and 100100.
URL:https://srdmh.org/event/havanam-part-18/
CATEGORIES:Meditation
END:VEVENT
END:VCALENDAR